View In:
ArcGIS JavaScript
ArcGIS Online Map Viewer
ArcGIS Earth
Service Description: CampusImagery/CampusThermal_CorrectedWGS84
Name: CampusImagery/CampusThermal_CorrectedWGS84
Description:
Single Fused Map Cache: false
Extent:
XMin: -1.175384116567736E7
YMin: 5058057.491338183
XMax: -1.1751288784049422E7
YMax: 5059146.672788625
Spatial Reference: 102100
(3857)
Initial Extent:
XMin: -1.175384116567736E7
YMin: 5058057.491338183
XMax: -1.1751288784049422E7
YMax: 5059146.672788625
Spatial Reference: 102100
(3857)
Full Extent:
XMin: -1.175384116567736E7
YMin: 5058057.491338183
XMax: -1.1751288784049422E7
YMax: 5059146.672788625
Spatial Reference: 102100
(3857)
Pixel Size X: 0.060534617871591374
Pixel Size Y: 0.06023900505732425
Band Count: 4
Pixel Type: U8
RasterFunction Infos: {"rasterFunctionInfos": [{
"name": "None",
"description": "",
"help": ""
}]}
Mensuration Capabilities: Basic
Inspection Capabilities:
Has Histograms: true
Has Colormap: false
Has Multi Dimensions : false
Rendering Rule:
Min Scale: 0
Max Scale: 0
Copyright Text:
Service Data Type: esriImageServiceDataTypeGeneric
Min Values: 0, 0, 0, 0
Max Values: 255, 255, 255, 255
Mean Values: 166.31080359032, 69.19492861658, 56.342652506847, 210.17843777245
Standard Deviation Values: 84.744491724365, 54.788941275476, 45.351269551146, 97.059393877386
Object ID Field:
Fields:
None
Default Mosaic Method: Center
Allowed Mosaic Methods:
SortField:
SortValue: null
Mosaic Operator: First
Default Compression Quality: 75
Default Resampling Method: Bilinear
Max Record Count: null
Max Image Height: 4100
Max Image Width: 15000
Max Download Image Count: null
Max Mosaic Image Count: null
Allow Raster Function: true
Allow Copy: true
Allow Analysis: true
Allow Compute TiePoints: false
Supports Statistics: false
Supports Advanced Queries: false
Use StandardizedQueries: true
Raster Type Infos:
Name: Raster Dataset
Description: Supports all ArcGIS Raster Datasets
Help:
Has Raster Attribute Table: false
Edit Fields Info: null
Ownership Based AccessControl For Rasters: null
Child Resources:
Info
Histograms
Statistics
Key Properties
Legend
Raster Function Infos
Supported Operations:
Export Image
Identify
Measure
Compute Histograms
Compute Statistics Histograms
Get Samples
Compute Class Statistics
Query Boundary
Compute Pixel Location
Compute Angles
Validate
Project